BEGIN:VCALENDAR
VERSION:2.0
PRODID:-//hacksw/handcal//NONSGML v1.0//EN
BEGIN:VEVENT
SUMMARY:✨ [TT] Tournoi "Tous a Table" – Les 20 ans du club ! Gourdon
UID:6ee58be2-82a7-462f-a21f-0f2d8ddb6ea4
DTSTART:20260417T060000Z
DTEND:20260417T200000Z
LOCATION:Localisation Gymnase la Poussie, avenue Marc Baudru 46300 Gourdon
CATEGORIES:Festif
STATUS:
DESCRIPTION:<p>A l’occasion de ses 20 ans, la MJC Gourdon Tennis de
 Table t’invite a un evenement pas comme les autres : une journee
 placee sous le signe du plaisir, du partage… et de quelques
 echanges endiables 🔥</p>
 
 <p>📅 <b>Rendez-vous le 17mai</b><br
 />
 📍<a
 href="https://www.google.com/url?q=https://www.google.com/maps/place/data%3D!4m2!3m1!1s0x12acbcd857936ea5:0x1bc912474d5faac5?sa%3DX%26ved%3D1t:8290%26ictx%3D111&sa=D&source=calendar&usd=2&usg=AOvVaw31bgr70qx4ULQ1zei3a_YY"
 jslog="217751; track:impression" target="_blank">Gymnase de la
 Poussie</a><br />
 ⏰Ouverture des portes des 8h<br />
 🏓Debut des
 rencontres a partir de 10h</p>
 
 <p> </p>
 
 <p>💡 <b>Le concept
 ?</b><br />
 👉Des equipes de 3 joueurs<br />
 👉1 seul licencie
 maximum par equipe<br />
 👉Matchs en 1 seul set gagnant</p>
 
 <p>Pas
 besoin d’etre un pro ! Que tu sois debutant, joueur occasionnel ou
 simple curieux, ta place est autour de la table 🙌Oui, il y aura
 une competition… mais surtout une ambiance conviviale, des rires,
 des surprises et de belles rencontres.<br />
 🎯Objectif :
 <b>s’amuser avant tout !</b></p>
 
 <p><b> </b></p>
 
 <p>🎭
 <b>Ambiance garantie !</b><br />
 ➡️Entreprises, assos, clubs,
 groupes d’amis : tout le monde est le bienvenu<br />
 ➡️Nom
 d’equipe original, deguisements… lache-toi !<br
 />
 🍔Restauration et buvette sur place</p>
 
 <p>Venez defendre vos
 couleurs dans une atmosphere festive !</p>
 
 <p> </p>
 
 <p>🎁
 <b>Grande tombola des 20 ans</b><br />
 ➡️De nombreux lots a
 gagner<br />
 🏆1er prix d’une valeur de
 500€</p>
 
 <p> </p>
 
 <p>❤️ <b>Un tournoi pour une belle
 cause</b><br />
 💰20€ par equipe (dont 5€ reverses a
 l’association <i>Vaincre la Mucoviscidose</i>)</p>
 
 <p>Ce soutien
 s’inscrit dans le defi <b>"Je Souffle pour Vous"</b> de
 <b>Francois Bleriot</b>, qui parcourra plus de 2300 km a pied en 55
 jours 👏.</p>
 
 <p>On compte sur les entreprises, associations,
 collectivites, clubs sportifs et groupes d’amis pour relever ledefi
 !</p>
 
 <p>📹 Une visioconference sera organisee pendant la journee
 pour l’encourager et lui annoncer en direct la somme recoltee
 !</p>
 
 <p> </p>
 
 <p>🔥 Que tu n’aies jamaistenu une raquette ou
 que tu sois deja a l’aise, viens decouvrir le ping autrement :<br
 />
 👉accessible<br />
 👉fun<br />
 👉et terriblement
 addictif</p>
 
 <p> </p>
 
 <p>💥 <b>Alors, pret a
 tenterl’experience ?</b><br />
 Reunis ton equipe et viens partager
 une journee memorable avec nous !</p>
 
 <p> </p>
 
 <hr />
 <p>📩
 <b>INFOS &INSCRIPTIONS :</b> <a
 href="https://docs.google.com/forms/d/e/1FAIpQLScBhLWAfo2mlaI8xSzMwhj5AzJdMTnicYU1wBFEiiTtHZ7EGw/viewform"
 jslog="217751; track:impression" target="_blank"><b><u>TOUS A
 TABLE</u></b></a><br />
 🔎<b>PLUS D’INFOS SUR LE DEFI :</b> <a
 href="https://www.facebook.com/Jesoufflepourvous" jslog="217751;
 track:impression" target="_blank"><b><i><u>JE SOUFFLE POUR
 VOUS</u></i></b></a><br />
 🎟️<b>TOMBOLA :</b> <a
 href="https://www.helloasso.com/associations/mjc-gourdon/evenements/tombola-en-ligne"
 jslog="217751; track:impression" target="_blank"><b><u>BILLETTERIE EN
 LIGNE</u></b></a></p>
URL;VALUE=URI:https://cdtt46.sportsregions.fr/evenements/2026/04/17/tt-tournoi-tous-a-table-les-20-ans-du-club-gourdon-2441996
END:VEVENT
END:VCALENDAR
