BEGIN:VCALENDAR
VERSION:2.0
PRODID:-//hacksw/handcal//NONSGML v1.0//EN
BEGIN:VEVENT
SUMMARY:Rencontre n°1 Championnat par equipe
UID:dc4afcfd-78f8-4f8a-8ee5-484df755615a
DTSTART:20211001T220000Z
DTEND:20211002T220000Z
LOCATION:Localisation   
CATEGORIES:Sportif
STATUS:
URL;VALUE=URI:https://cdtt46.sportsregions.fr/evenements/2021/10/02/rencontre-n1-championnat-par-equipe-1525641
END:VEVENT
END:VCALENDAR
